BEGIN:VCALENDAR
VERSION:2.0
PRODID:-//CDU Mörlenbach - ECPv6.15.20//NONSGML v1.0//EN
CALSCALE:GREGORIAN
METHOD:PUBLISH
X-WR-CALNAME:CDU Mörlenbach
X-ORIGINAL-URL:https://xn--cdu-mrlenbach-mmb.de
X-WR-CALDESC:Veranstaltungen für CDU Mörlenbach
REFRESH-INTERVAL;VALUE=DURATION:PT1H
X-Robots-Tag:noindex
X-PUBLISHED-TTL:PT1H
BEGIN:VTIMEZONE
TZID:Europe/Berlin
BEGIN:DAYLIGHT
TZOFFSETFROM:+0100
TZOFFSETTO:+0200
TZNAME:CEST
DTSTART:20240331T010000
END:DAYLIGHT
BEGIN:STANDARD
TZOFFSETFROM:+0200
TZOFFSETTO:+0100
TZNAME:CET
DTSTART:20241027T010000
END:STANDARD
BEGIN:DAYLIGHT
TZOFFSETFROM:+0100
TZOFFSETTO:+0200
TZNAME:CEST
DTSTART:20250330T010000
END:DAYLIGHT
BEGIN:STANDARD
TZOFFSETFROM:+0200
TZOFFSETTO:+0100
TZNAME:CET
DTSTART:20251026T010000
END:STANDARD
BEGIN:DAYLIGHT
TZOFFSETFROM:+0100
TZOFFSETTO:+0200
TZNAME:CEST
DTSTART:20260329T010000
END:DAYLIGHT
BEGIN:STANDARD
TZOFFSETFROM:+0200
TZOFFSETTO:+0100
TZNAME:CET
DTSTART:20261025T010000
END:STANDARD
END:VTIMEZONE
BEGIN:VEVENT
DTSTART;TZID=Europe/Berlin:20250928T150000
DTEND;TZID=Europe/Berlin:20250928T160000
DTSTAMP:20260421T183523
CREATED:20250921T161455Z
LAST-MODIFIED:20250921T164141Z
UID:691-1759071600-1759075200@xn--cdu-mrlenbach-mmb.de
SUMMARY:Boule trifft Politik
DESCRIPTION:Die CDU Mörlenbach lädt euch ganz herzlich am Sonntag 28.09. und 05.10. um jeweils 15 Uhr auf die alla hopp! Anlage in Mörlenbach ein\, um gemeinsam Boule zu spielen und in lockerer Atmosphäre über die Zukunft unserer Gemeinde zu sprechen. \nOb ihr zum ersten Mal eine Kugel werft oder erfahrene Spieler seid – wir freuen uns auf geselliges Beisammensein\, spannende Ideen zur Ortskernentwicklung\, Infrastruktur und Vereinsleben sowie eure Anregungen für Mörlenbach von morgen. \nDie CDU Mörlenbach steht für eine Politik\, die Zukunft gestaltet\, statt sie dem Zufall zu überlassen. Doch gute Politik lebt von Menschen – von engagierten Bürgerinnen und Bürgern wie euch\, die ihre Ideen\, Erfahrungen und ihre Leidenschaft einbringen. Wenn auch ihr euch in den nächsten Jahren für Mörlenbach engagieren möchtet\, dann sprecht uns beim Boule spielen sehr gerne an\, denn aktuell stellen wir unsere Liste mit Kandidatinnen und Kandidaten für die Kommunalwahl 2026 auf. Ob als Mitglied\, Unterstützer oder Ideengeber – jede Stimme\, jeder Einsatz zählt. Bei uns könnt ihr eure Ideen\, Erfahrungen und eure Leidenschaft einbringen. Wir freuen uns auf euch! \nBei Regen fällt der jeweilige Termin aus. \nWir freuen uns auf euch und gute Gespräche beim Boule spielen. Bis bald auf der alla hopp! Anlage in Mörlenbach! \nGemäß der Datenschutz-Grundverordnung weisen wir Sie darauf hin\, dass bei diesen Veranstaltungen Berichte und Bilder gemacht werden\, die in der Presse\, Internet und weiteren sozialen Medien veröffentlicht werden können.
URL:https://xn--cdu-mrlenbach-mmb.de/veranstaltung/boule-trifft-politik/
LOCATION:alla hopp! Anlage Mörlenbach\, Schulstraße 2\, Mörlenbach\, 69509\, Germany
CATEGORIES:CDU Mörlenbach,Versammlungen
ORGANIZER;CN="CDU M%C3%B6rlenbach":MAILTO:kontakt@cdu-moerlenbach.de
END:VEVENT
END:VCALENDAR