BEGIN:VCALENDAR
VERSION:2.0
PRODID:-//CDU Mörlenbach - ECPv6.15.20//NONSGML v1.0//EN
CALSCALE:GREGORIAN
METHOD:PUBLISH
X-WR-CALNAME:CDU Mörlenbach
X-ORIGINAL-URL:https://xn--cdu-mrlenbach-mmb.de
X-WR-CALDESC:Veranstaltungen für CDU Mörlenbach
REFRESH-INTERVAL;VALUE=DURATION:PT1H
X-Robots-Tag:noindex
X-PUBLISHED-TTL:PT1H
BEGIN:VTIMEZONE
TZID:Europe/Berlin
BEGIN:DAYLIGHT
TZOFFSETFROM:+0100
TZOFFSETTO:+0200
TZNAME:CEST
DTSTART:20220327T010000
END:DAYLIGHT
BEGIN:STANDARD
TZOFFSETFROM:+0200
TZOFFSETTO:+0100
TZNAME:CET
DTSTART:20221030T010000
END:STANDARD
BEGIN:DAYLIGHT
TZOFFSETFROM:+0100
TZOFFSETTO:+0200
TZNAME:CEST
DTSTART:20230326T010000
END:DAYLIGHT
BEGIN:STANDARD
TZOFFSETFROM:+0200
TZOFFSETTO:+0100
TZNAME:CET
DTSTART:20231029T010000
END:STANDARD
BEGIN:DAYLIGHT
TZOFFSETFROM:+0100
TZOFFSETTO:+0200
TZNAME:CEST
DTSTART:20240331T010000
END:DAYLIGHT
BEGIN:STANDARD
TZOFFSETFROM:+0200
TZOFFSETTO:+0100
TZNAME:CET
DTSTART:20241027T010000
END:STANDARD
END:VTIMEZONE
BEGIN:VEVENT
DTSTART;TZID=Europe/Berlin:20230321T200000
DTEND;TZID=Europe/Berlin:20230321T220000
DTSTAMP:20260421T215219
CREATED:20230304T141528Z
LAST-MODIFIED:20230304T160258Z
UID:434-1679428800-1679436000@xn--cdu-mrlenbach-mmb.de
SUMMARY:Gemeindevertretersitzung
DESCRIPTION:Sitzung der Gemeindevertretung Mörlenbach
URL:https://xn--cdu-mrlenbach-mmb.de/veranstaltung/gemeindevertretung-sitzung/
LOCATION:Bürgerhaus Mörlenbach\, Schulstraße 1\, Mörlenbach\, 69509\, Deutschland
CATEGORIES:CDU Mörlenbach,Sitzungstermine
ORGANIZER;CN="Gemeinde M%C3%B6rlenbach":MAILTO:info@moerlenbach.de
END:VEVENT
END:VCALENDAR