BEGIN:VCALENDAR
VERSION:2.0
PRODID:-//CDU Mörlenbach - ECPv6.15.20//NONSGML v1.0//EN
CALSCALE:GREGORIAN
METHOD:PUBLISH
X-WR-CALNAME:CDU Mörlenbach
X-ORIGINAL-URL:https://xn--cdu-mrlenbach-mmb.de
X-WR-CALDESC:Veranstaltungen für CDU Mörlenbach
REFRESH-INTERVAL;VALUE=DURATION:PT1H
X-Robots-Tag:noindex
X-PUBLISHED-TTL:PT1H
BEGIN:VTIMEZONE
TZID:Europe/Berlin
BEGIN:DAYLIGHT
TZOFFSETFROM:+0100
TZOFFSETTO:+0200
TZNAME:CEST
DTSTART:20220327T010000
END:DAYLIGHT
BEGIN:STANDARD
TZOFFSETFROM:+0200
TZOFFSETTO:+0100
TZNAME:CET
DTSTART:20221030T010000
END:STANDARD
BEGIN:DAYLIGHT
TZOFFSETFROM:+0100
TZOFFSETTO:+0200
TZNAME:CEST
DTSTART:20230326T010000
END:DAYLIGHT
BEGIN:STANDARD
TZOFFSETFROM:+0200
TZOFFSETTO:+0100
TZNAME:CET
DTSTART:20231029T010000
END:STANDARD
BEGIN:DAYLIGHT
TZOFFSETFROM:+0100
TZOFFSETTO:+0200
TZNAME:CEST
DTSTART:20240331T010000
END:DAYLIGHT
BEGIN:STANDARD
TZOFFSETFROM:+0200
TZOFFSETTO:+0100
TZNAME:CET
DTSTART:20241027T010000
END:STANDARD
END:VTIMEZONE
BEGIN:VEVENT
DTSTART;TZID=Europe/Berlin:20230907T180000
DTEND;TZID=Europe/Berlin:20230907T210000
DTSTAMP:20260421T151451
CREATED:20230720T184637Z
LAST-MODIFIED:20230827T165807Z
UID:583-1694109600-1694120400@xn--cdu-mrlenbach-mmb.de
SUMMARY:Veranstaltung zur Landtagswahl mit Ministerin Puttrich und Birgit Heitland
DESCRIPTION:Einladung: CDU – die richtige Wahl für Hessen \nDie CDU-Verbände Mörlenbach\, Fürth\, Gorxheimertal\, Birkenau\, Rimbach und Lindenfels laden Sie herzlich ein zur Veranstaltung \nCDU – die richtige Wahl für Hessen \nam 7. September 2023\num 18:00 Uhr\nim Bürgerhaus\, Schulstr. 2\, 69509 Mörlenbach \nmit Ehrengast und Rednerin\nLucia Puttrich Hessische Ministerin für Bundes- und Europaangelegenheiten\nund\nBirgit Heitland Landtagsabgeordnete\, Obfrau im Petitionsausschuss\, Sprecherin für Gesundheitswirtschaft und berufliche Bildung \nBei informativen und spannenden Vorträgen\, musikalischer Umrahmung und in geselliger Atmosphäre wollen wir uns mit Ihnen über die Zukunft unserer Heimatregion\, Hessen\, Deutschland und Europa austauschen. Getränke und kleine Speisen werden angeboten! \nWir freuen uns auf Sie! \nIhre CDU-Verbände \nMörlenbach – Fürth – Gorxheimertal\nBirkenau – Rimbach – Lindenfels \nZur besseren Planung freuen wir uns über Ihre Anmeldung über die folgende Kontaktdaten. \nTel.: (06209) 79158 \nE-Mail: kontakt@cdu-moerlenbach.de \nAuch Kurzentschlossene sind ohne Anmeldung herzlich willkommen. \nGemäß der Datenschutz-Grundverordnung weisen wir Sie darauf hin\, dass bei diesen Veranstaltungen Berichte und Bilder gemacht werden\, die in der Presse\, Internet und weiteren sozialen Medien veröffentlicht werden können.
URL:https://xn--cdu-mrlenbach-mmb.de/veranstaltung/veranstaltung-zur-landtagswahl-mit-ministerin-puttrich-und-birgit-heitland/
LOCATION:Bürgerhaus Mörlenbach\, Schulstraße 1\, Mörlenbach\, 69509\, Deutschland
CATEGORIES:CDU Mörlenbach,Versammlungen
ATTACH;FMTTYPE=image/png:https://xn--cdu-mrlenbach-mmb.de/wp-content/uploads/CDU_die_richtige_Wahl_fuer_Hessen.png
ORGANIZER;CN="CDU M%C3%B6rlenbach":MAILTO:kontakt@cdu-moerlenbach.de
END:VEVENT
END:VCALENDAR