BEGIN:VCALENDAR
VERSION:2.0
PRODID:-//CDU Mörlenbach - ECPv6.15.20//NONSGML v1.0//EN
CALSCALE:GREGORIAN
METHOD:PUBLISH
X-WR-CALNAME:CDU Mörlenbach
X-ORIGINAL-URL:https://xn--cdu-mrlenbach-mmb.de
X-WR-CALDESC:Veranstaltungen für CDU Mörlenbach
REFRESH-INTERVAL;VALUE=DURATION:PT1H
X-Robots-Tag:noindex
X-PUBLISHED-TTL:PT1H
BEGIN:VTIMEZONE
TZID:Europe/Berlin
BEGIN:DAYLIGHT
TZOFFSETFROM:+0100
TZOFFSETTO:+0200
TZNAME:CEST
DTSTART:20220327T010000
END:DAYLIGHT
BEGIN:STANDARD
TZOFFSETFROM:+0200
TZOFFSETTO:+0100
TZNAME:CET
DTSTART:20221030T010000
END:STANDARD
BEGIN:DAYLIGHT
TZOFFSETFROM:+0100
TZOFFSETTO:+0200
TZNAME:CEST
DTSTART:20230326T010000
END:DAYLIGHT
BEGIN:STANDARD
TZOFFSETFROM:+0200
TZOFFSETTO:+0100
TZNAME:CET
DTSTART:20231029T010000
END:STANDARD
BEGIN:DAYLIGHT
TZOFFSETFROM:+0100
TZOFFSETTO:+0200
TZNAME:CEST
DTSTART:20240331T010000
END:DAYLIGHT
BEGIN:STANDARD
TZOFFSETFROM:+0200
TZOFFSETTO:+0100
TZNAME:CET
DTSTART:20241027T010000
END:STANDARD
END:VTIMEZONE
BEGIN:VEVENT
DTSTART;TZID=Europe/Berlin:20230830T100000
DTEND;TZID=Europe/Berlin:20230830T120000
DTSTAMP:20260421T172241
CREATED:20230720T183940Z
LAST-MODIFIED:20230819T093853Z
UID:579-1693389600-1693396800@xn--cdu-mrlenbach-mmb.de
SUMMARY:Auf einen Kaffee mit Birgit Heitland
DESCRIPTION:Auf einen Kaffee mit Birgit Heitland am Kastanienplatz beim Bäcker Görtz in Mörlenbach. \n30.08.2023 von 10 – 12 Uhr
URL:https://xn--cdu-mrlenbach-mmb.de/veranstaltung/auf-einen-kaffee-mit-birgit-heitland/
LOCATION:Bäcker Görtz\, Weinheimer Str. 2\, Mörlenbach\, 69509\, Deutschland
CATEGORIES:CDU Mörlenbach,Versammlungen
ORGANIZER;CN="CDU M%C3%B6rlenbach":MAILTO:kontakt@cdu-moerlenbach.de
END:VEVENT
END:VCALENDAR