BEGIN:VCALENDAR
VERSION:2.0
PRODID:-//CDU Mörlenbach - ECPv6.15.20//NONSGML v1.0//EN
CALSCALE:GREGORIAN
METHOD:PUBLISH
X-WR-CALNAME:CDU Mörlenbach
X-ORIGINAL-URL:https://xn--cdu-mrlenbach-mmb.de
X-WR-CALDESC:Veranstaltungen für CDU Mörlenbach
REFRESH-INTERVAL;VALUE=DURATION:PT1H
X-Robots-Tag:noindex
X-PUBLISHED-TTL:PT1H
BEGIN:VTIMEZONE
TZID:Europe/Berlin
BEGIN:DAYLIGHT
TZOFFSETFROM:+0100
TZOFFSETTO:+0200
TZNAME:CEST
DTSTART:20220327T010000
END:DAYLIGHT
BEGIN:STANDARD
TZOFFSETFROM:+0200
TZOFFSETTO:+0100
TZNAME:CET
DTSTART:20221030T010000
END:STANDARD
BEGIN:DAYLIGHT
TZOFFSETFROM:+0100
TZOFFSETTO:+0200
TZNAME:CEST
DTSTART:20230326T010000
END:DAYLIGHT
BEGIN:STANDARD
TZOFFSETFROM:+0200
TZOFFSETTO:+0100
TZNAME:CET
DTSTART:20231029T010000
END:STANDARD
BEGIN:DAYLIGHT
TZOFFSETFROM:+0100
TZOFFSETTO:+0200
TZNAME:CEST
DTSTART:20240331T010000
END:DAYLIGHT
BEGIN:STANDARD
TZOFFSETFROM:+0200
TZOFFSETTO:+0100
TZNAME:CET
DTSTART:20241027T010000
END:STANDARD
END:VTIMEZONE
BEGIN:VEVENT
DTSTART;TZID=Europe/Berlin:20230325T110000
DTEND;TZID=Europe/Berlin:20230325T140000
DTSTAMP:20260422T001450
CREATED:20230304T154723Z
LAST-MODIFIED:20230315T093146Z
UID:436-1679742000-1679752800@xn--cdu-mrlenbach-mmb.de
SUMMARY:Bärlauchwanderung
DESCRIPTION:Wie im letzten Jahr\, wird es auch diesen Frühling eine Bärlauchwanderung geben. \nTreffpunkt ist am 25.03.2023 um 11 Uhr am Bürgerhaus in Mörlenbach gegenüber Alla-Hopp!-Anlage. \nAn der Leonhard-Schenk-Hütte wird es eine Verköstigung mit Brot und Bärlauchpesto geben. \nÜber Ihre Teilnahme würden wir uns sehr freuen. \nDie Teilnahme an der Bärlauchwanderung ist kostenlos.
URL:https://xn--cdu-mrlenbach-mmb.de/veranstaltung/baerlauchwanderung/
LOCATION:Bürgerhaus Mörlenbach\, Schulstraße 1\, Mörlenbach\, 69509\, Deutschland
CATEGORIES:Ausflüge,CDU Mörlenbach
ORGANIZER;CN="CDU M%C3%B6rlenbach":MAILTO:kontakt@cdu-moerlenbach.de
END:VEVENT
END:VCALENDAR